BEGIN:VCALENDAR
VERSION:2.0
PRODID:-//Bethesda - ECPv6.15.20//NONSGML v1.0//EN
CALSCALE:GREGORIAN
METHOD:PUBLISH
X-WR-CALNAME:Bethesda
X-ORIGINAL-URL:https://bethesdaky.com
X-WR-CALDESC:Events for Bethesda
REFRESH-INTERVAL;VALUE=DURATION:PT1H
X-Robots-Tag:noindex
X-PUBLISHED-TTL:PT1H
BEGIN:VTIMEZONE
TZID:UTC
BEGIN:STANDARD
TZOFFSETFROM:+0000
TZOFFSETTO:+0000
TZNAME:UTC
DTSTART:20240101T000000
END:STANDARD
END:VTIMEZONE
BEGIN:VEVENT
DTSTART;TZID=UTC:20250423T080000
DTEND;TZID=UTC:20250423T170000
DTSTAMP:20260419T204411
CREATED:20250211T155836Z
LAST-MODIFIED:20250211T155836Z
UID:6190-1745395200-1745427600@bethesdaky.com
SUMMARY:Tribe Talent Show
DESCRIPTION:Wednesday April 23\, 2025 is our Tribe Talent Show! Hosted in the sanctuary. Come out\, bring your talents\, and support those putting on the show for us! Time TBA.
URL:https://bethesdaky.com/event/tribe-talent-show/
LOCATION:Bethesda House of Mercy\, 2738 Ring Rd\, Elizabethtown\, KY\, 42701\, United States
ORGANIZER;CN="Student Ministry":MAILTO:bethesdaministryoffice@gmail.com
END:VEVENT
BEGIN:VEVENT
DTSTART;TZID=UTC:20250426T120000
DTEND;TZID=UTC:20250426T140000
DTSTAMP:20260419T204411
CREATED:20250102T190156Z
LAST-MODIFIED:20250102T190156Z
UID:6078-1745668800-1745676000@bethesdaky.com
SUMMARY:Women's WOW Gathering
DESCRIPTION:The fourth Saturday of every month from 12-2PM the women of Bethesda gather together to fellowship\, dig into the word\, and enjoy each others company.
URL:https://bethesdaky.com/event/womens-wow-gathering-4/
LOCATION:Bethesda House of Mercy\, 2738 Ring Rd\, Elizabethtown\, KY\, 42701\, United States
ORGANIZER;CN="Womens Ministry":MAILTO:bethesdaministryoffice@gmail.com
END:VEVENT
END:VCALENDAR