BEGIN:VCALENDAR
VERSION:2.0
PRODID:-//Bethesda - ECPv6.15.20//NONSGML v1.0//EN
CALSCALE:GREGORIAN
METHOD:PUBLISH
X-ORIGINAL-URL:https://bethesdaky.com
X-WR-CALDESC:Events for Bethesda
REFRESH-INTERVAL;VALUE=DURATION:PT1H
X-Robots-Tag:noindex
X-PUBLISHED-TTL:PT1H
BEGIN:VTIMEZONE
TZID:UTC
BEGIN:STANDARD
TZOFFSETFROM:+0000
TZOFFSETTO:+0000
TZNAME:UTC
DTSTART:20240101T000000
END:STANDARD
END:VTIMEZONE
BEGIN:VEVENT
DTSTART;TZID=UTC:20250713T183000
DTEND;TZID=UTC:20250713T200000
DTSTAMP:20260419T150209
CREATED:20250508T181242Z
LAST-MODIFIED:20250508T181242Z
UID:6356-1752431400-1752436800@bethesdaky.com
SUMMARY:Adventure Kids VBS
DESCRIPTION:Teach kids to live a life of love like Jesus did by studying a series of New Testament stories and experiencing engaging activities and unforgettable tunes.
URL:https://bethesdaky.com/event/adventure-kids-vbs/
LOCATION:Bethesda House of Mercy\, 2738 Ring Rd\, Elizabethtown\, KY\, 42701\, United States
END:VEVENT
BEGIN:VEVENT
DTSTART;TZID=UTC:20250714T183000
DTEND;TZID=UTC:20250714T200000
DTSTAMP:20260419T150209
CREATED:20250508T180111Z
LAST-MODIFIED:20250508T181139Z
UID:6352-1752517800-1752523200@bethesdaky.com
SUMMARY:Adventure Camp VBS
DESCRIPTION:Teach kids to live a life of love like Jesus did by studying a series of New Testament stories and experiencing engaging activities and unforgettable tunes.
URL:https://bethesdaky.com/event/corporate-prayer/
LOCATION:Bethesda House of Mercy\, 2738 Ring Rd\, Elizabethtown\, KY\, 42701\, United States
END:VEVENT
BEGIN:VEVENT
DTSTART;TZID=UTC:20250715T183000
DTEND;TZID=UTC:20250715T200000
DTSTAMP:20260419T150209
CREATED:20250508T181331Z
LAST-MODIFIED:20250508T181331Z
UID:6358-1752604200-1752609600@bethesdaky.com
SUMMARY:Adventure Kids VBS
DESCRIPTION:Teach kids to live a life of love like Jesus did by studying a series of New Testament stories and experiencing engaging activities and unforgettable tunes.
URL:https://bethesdaky.com/event/adventure-kids-vbs-2/
LOCATION:Bethesda House of Mercy\, 2738 Ring Rd\, Elizabethtown\, KY\, 42701\, United States
END:VEVENT
BEGIN:VEVENT
DTSTART;TZID=UTC:20250716T183000
DTEND;TZID=UTC:20250716T200000
DTSTAMP:20260419T150209
CREATED:20250508T181746Z
LAST-MODIFIED:20250508T181746Z
UID:6360-1752690600-1752696000@bethesdaky.com
SUMMARY:Adventure Kids VBS
DESCRIPTION:Teach kids to live a life of love like Jesus did by studying a series of New Testament stories and experiencing engaging activities and unforgettable tunes.
URL:https://bethesdaky.com/event/adventure-kids-vbs-3/
LOCATION:Bethesda House of Mercy\, 2738 Ring Rd\, Elizabethtown\, KY\, 42701\, United States
END:VEVENT
BEGIN:VEVENT
DTSTART;TZID=UTC:20250717T183000
DTEND;TZID=UTC:20250717T200000
DTSTAMP:20260419T150209
CREATED:20250508T181902Z
LAST-MODIFIED:20250508T181902Z
UID:6362-1752777000-1752782400@bethesdaky.com
SUMMARY:Adventure Kids VBS
DESCRIPTION:Teach kids to live a life of love like Jesus did by studying a series of New Testament stories and experiencing engaging activities and unforgettable tunes.
URL:https://bethesdaky.com/event/adventure-kids-vbs-4/
LOCATION:Bethesda House of Mercy\, 2738 Ring Rd\, Elizabethtown\, KY\, 42701\, United States
END:VEVENT
BEGIN:VEVENT
DTSTART;TZID=UTC:20250719T120000
DTEND;TZID=UTC:20250719T140000
DTSTAMP:20260419T150209
CREATED:20250102T191241Z
LAST-MODIFIED:20250716T165231Z
UID:6084-1752926400-1752933600@bethesdaky.com
SUMMARY:Women's WOW Gathering
DESCRIPTION:We will be having a picnic at Kimberly’s house for this months event. Please contact a member of the Women’s team for the address! 12PM-2PM.
URL:https://bethesdaky.com/event/womens-wow-gathering-7/
LOCATION:Bethesda House of Mercy\, 2738 Ring Rd\, Elizabethtown\, KY\, 42701\, United States
ORGANIZER;CN="Womens Ministry":MAILTO:bethesdaministryoffice@gmail.com
END:VEVENT
BEGIN:VEVENT
DTSTART;TZID=UTC:20250803T170000
DTEND;TZID=UTC:20250803T180000
DTSTAMP:20260419T150209
CREATED:20250728T154405Z
LAST-MODIFIED:20250728T154405Z
UID:6578-1754240400-1754244000@bethesdaky.com
SUMMARY:Corporate Prayer
DESCRIPTION:Come worship as one body. 5PM.
URL:https://bethesdaky.com/event/corporate-prayer-3/
LOCATION:Bethesda House of Mercy\, 2738 Ring Rd\, Elizabethtown\, KY\, 42701\, United States
END:VEVENT
BEGIN:VEVENT
DTSTART;TZID=UTC:20250810T160000
DTEND;TZID=UTC:20250810T170000
DTSTAMP:20260419T150209
CREATED:20250728T154109Z
LAST-MODIFIED:20250728T154109Z
UID:6574-1754841600-1754845200@bethesdaky.com
SUMMARY:Bethesda Introduction Class
DESCRIPTION:Come see what Bethesda has to offer. 4PM.
URL:https://bethesdaky.com/event/bethesda-introduction-class/
LOCATION:Bethesda House of Mercy\, 2738 Ring Rd\, Elizabethtown\, KY\, 42701\, United States
END:VEVENT
BEGIN:VEVENT
DTSTART;VALUE=DATE:20250821
DTEND;VALUE=DATE:20250824
DTSTAMP:20260419T150209
CREATED:20250728T154239Z
LAST-MODIFIED:20250728T154239Z
UID:6576-1755734400-1755993599@bethesdaky.com
SUMMARY:Healthy Church Dynamics
DESCRIPTION:Healthy Church Dynamics will be hosted at Camp Nikao. For more information\, go to kycogop.org
URL:https://bethesdaky.com/event/healthy-church-dynamics/
LOCATION:Camp Nikao\, 7566 Shepherdsville Rd\, Elizabethtown\, KY\, 42701\, United States
END:VEVENT
BEGIN:VEVENT
DTSTART;TZID=UTC:20250823T120000
DTEND;TZID=UTC:20250823T140000
DTSTAMP:20260419T150209
CREATED:20250102T192104Z
LAST-MODIFIED:20250102T192104Z
UID:6086-1755950400-1755957600@bethesdaky.com
SUMMARY:Women's WOW Gathering
DESCRIPTION:The fourth Saturday of every month from 12-2PM the women of Bethesda gather together to fellowship\, dig into the word\, and enjoy each others company.
URL:https://bethesdaky.com/event/womens-wow-gathering-8/
LOCATION:Bethesda House of Mercy\, 2738 Ring Rd\, Elizabethtown\, KY\, 42701\, United States
ORGANIZER;CN="Womens Ministry":MAILTO:bethesdaministryoffice@gmail.com
END:VEVENT
BEGIN:VEVENT
DTSTART;TZID=UTC:20250829T080000
DTEND;TZID=UTC:20250829T170000
DTSTAMP:20260419T150209
CREATED:20250211T160628Z
LAST-MODIFIED:20250211T160628Z
UID:6198-1756454400-1756486800@bethesdaky.com
SUMMARY:Youth Car Wash
DESCRIPTION:Our youth are hosting a car wash fundraiser. Come support our youth and get your car cleaned in the meantime! More details coming soon!
URL:https://bethesdaky.com/event/youth-car-wash/
LOCATION:Bethesda House of Mercy\, 2738 Ring Rd\, Elizabethtown\, KY\, 42701\, United States
ORGANIZER;CN="Student Ministry":MAILTO:bethesdaministryoffice@gmail.com
END:VEVENT
BEGIN:VEVENT
DTSTART;TZID=UTC:20250927T160000
DTEND;TZID=UTC:20250927T200000
DTSTAMP:20260419T150209
CREATED:20250211T161202Z
LAST-MODIFIED:20250211T161202Z
UID:6200-1758988800-1759003200@bethesdaky.com
SUMMARY:YA Chili Cook-off
DESCRIPTION:The Young Adult team is hosting its annual Chili Cook-off! This is hosted at Heather & Anthony Brown’s home. Bring your A-game! We will have trophies for best and hottest chili!! Come out\, hang out\, eat good food\, and enjoy a bonfire!
URL:https://bethesdaky.com/event/ya-chili-cook-off/
LOCATION:KY
ORGANIZER;CN="Young Adult Ministry":MAILTO:bethesdaministryoffice@gmail.com
END:VEVENT
BEGIN:VEVENT
DTSTART;TZID=UTC:20251104T183000
DTEND;TZID=UTC:20251104T210000
DTSTAMP:20260419T150209
CREATED:20251016T162200Z
LAST-MODIFIED:20251016T162200Z
UID:6705-1762281000-1762290000@bethesdaky.com
SUMMARY:Cults and False Beliefs
DESCRIPTION:Our Impact School of Ministry class “Cults and False Beliefs” kicks off. We will be diving in for the next 4 weeks. Contact the office for more information!
URL:https://bethesdaky.com/event/cults-and-false-beliefs/
LOCATION:Bethesda House of Mercy\, 2738 Ring Rd\, Elizabethtown\, KY\, 42701\, United States
END:VEVENT
BEGIN:VEVENT
DTSTART;TZID=UTC:20251108T080000
DTEND;TZID=UTC:20251108T093000
DTSTAMP:20260419T150209
CREATED:20250211T161356Z
LAST-MODIFIED:20250211T161356Z
UID:6202-1762588800-1762594200@bethesdaky.com
SUMMARY:YA Morning Devotion
DESCRIPTION:Come join the Young Adult team for morning devotion. Bring your bible and be prepared to listen and dig deeper. We will have donuts and coffee. Bring a chair!
URL:https://bethesdaky.com/event/ya-morning-devotion-2/
LOCATION:KY
ORGANIZER;CN="Young Adult Ministry":MAILTO:bethesdaministryoffice@gmail.com
END:VEVENT
BEGIN:VEVENT
DTSTART;TZID=UTC:20251109T160000
DTEND;TZID=UTC:20251109T170000
DTSTAMP:20260419T150209
CREATED:20251016T162314Z
LAST-MODIFIED:20251016T162314Z
UID:6707-1762704000-1762707600@bethesdaky.com
SUMMARY:Bethesda Introduction Class
DESCRIPTION:Come learn about what Bethesda has to offer. We will have an introduction class at 4PM. Contact the office for more information!
URL:https://bethesdaky.com/event/bethesda-introduction-class-2/
LOCATION:Bethesda House of Mercy\, 2738 Ring Rd\, Elizabethtown\, KY\, 42701\, United States
END:VEVENT
BEGIN:VEVENT
DTSTART;TZID=UTC:20251123T170000
DTEND;TZID=UTC:20251123T190000
DTSTAMP:20260419T150209
CREATED:20251016T162524Z
LAST-MODIFIED:20251016T162524Z
UID:6709-1763917200-1763924400@bethesdaky.com
SUMMARY:Bake Sale!
DESCRIPTION:We are hosting our annual Bake Sale in the Life Center! 5PM-? Bring your wallet and your best homemade pies\, cookies\, cakes\, etc! We can’t wait!!
URL:https://bethesdaky.com/event/bake-sale/
LOCATION:Bethesda House of Mercy\, 2738 Ring Rd\, Elizabethtown\, KY\, 42701\, United States
END:VEVENT
END:VCALENDAR