BEGIN:VCALENDAR
VERSION:2.0
PRODID:-//Bethesda - ECPv6.15.20//NONSGML v1.0//EN
CALSCALE:GREGORIAN
METHOD:PUBLISH
X-WR-CALNAME:Bethesda
X-ORIGINAL-URL:https://bethesdaky.com
X-WR-CALDESC:Events for Bethesda
REFRESH-INTERVAL;VALUE=DURATION:PT1H
X-Robots-Tag:noindex
X-PUBLISHED-TTL:PT1H
BEGIN:VTIMEZONE
TZID:UTC
BEGIN:STANDARD
TZOFFSETFROM:+0000
TZOFFSETTO:+0000
TZNAME:UTC
DTSTART:20240101T000000
END:STANDARD
END:VTIMEZONE
BEGIN:VEVENT
DTSTART;TZID=UTC:20250509T080000
DTEND;TZID=UTC:20250509T170000
DTSTAMP:20260419T204412
CREATED:20250211T160037Z
LAST-MODIFIED:20250211T160037Z
UID:6192-1746777600-1746810000@bethesdaky.com
SUMMARY:Youth Car Wash Fundraiser
DESCRIPTION:Come out and support our youth as they host a car wash fundraiser! Time TBA.
URL:https://bethesdaky.com/event/youth-car-wash-fundraiser/
LOCATION:Bethesda House of Mercy\, 2738 Ring Rd\, Elizabethtown\, KY\, 42701\, United States
ORGANIZER;CN="Student Ministry":MAILTO:bethesdaministryoffice@gmail.com
END:VEVENT
END:VCALENDAR