BEGIN:VCALENDAR
VERSION:2.0
PRODID:-//Bethesda - ECPv6.15.20//NONSGML v1.0//EN
CALSCALE:GREGORIAN
METHOD:PUBLISH
X-ORIGINAL-URL:https://bethesdaky.com
X-WR-CALDESC:Events for Bethesda
REFRESH-INTERVAL;VALUE=DURATION:PT1H
X-Robots-Tag:noindex
X-PUBLISHED-TTL:PT1H
BEGIN:VTIMEZONE
TZID:UTC
BEGIN:STANDARD
TZOFFSETFROM:+0000
TZOFFSETTO:+0000
TZNAME:UTC
DTSTART:20240101T000000
END:STANDARD
END:VTIMEZONE
BEGIN:VEVENT
DTSTART;TZID=UTC:20250314T180000
DTEND;TZID=UTC:20250314T210000
DTSTAMP:20260420T012944
CREATED:20250211T155704Z
LAST-MODIFIED:20250211T155715Z
UID:6187-1741975200-1741986000@bethesdaky.com
SUMMARY:Youth Bonfire
DESCRIPTION:Join us on Friday\, March 14 at the Kirk’s home for our youth bonfire! 6PM. Please contact a member of the youth team for more information.
URL:https://bethesdaky.com/event/youth-bonfire/
LOCATION:KY
ORGANIZER;CN="Student Ministry":MAILTO:bethesdaministryoffice@gmail.com
END:VEVENT
END:VCALENDAR