BEGIN:VCALENDAR
VERSION:2.0
PRODID:-//Bethesda - ECPv6.15.20//NONSGML v1.0//EN
CALSCALE:GREGORIAN
METHOD:PUBLISH
X-ORIGINAL-URL:https://bethesdaky.com
X-WR-CALDESC:Events for Bethesda
REFRESH-INTERVAL;VALUE=DURATION:PT1H
X-Robots-Tag:noindex
X-PUBLISHED-TTL:PT1H
BEGIN:VTIMEZONE
TZID:UTC
BEGIN:STANDARD
TZOFFSETFROM:+0000
TZOFFSETTO:+0000
TZNAME:UTC
DTSTART:20240101T000000
END:STANDARD
END:VTIMEZONE
BEGIN:VEVENT
DTSTART;TZID=UTC:20250308T080000
DTEND;TZID=UTC:20250308T093000
DTSTAMP:20260420T012812
CREATED:20250206T191808Z
LAST-MODIFIED:20250206T191808Z
UID:6172-1741420800-1741426200@bethesdaky.com
SUMMARY:YA Morning Devotion
DESCRIPTION:Come join the Young Adult crew at 8AM. This will be hosted at Heather & Anthony Browns home. Enjoy donuts\, coffee\, and time spent with friends in the word!
URL:https://bethesdaky.com/event/ya-morning-devotion/
LOCATION:KY
ORGANIZER;CN="Young Adult Ministry":MAILTO:bethesdaministryoffice@gmail.com
END:VEVENT
END:VCALENDAR