BEGIN:VCALENDAR
VERSION:2.0
PRODID:-//Bethesda - ECPv6.15.20//NONSGML v1.0//EN
CALSCALE:GREGORIAN
METHOD:PUBLISH
X-ORIGINAL-URL:https://bethesdaky.com
X-WR-CALDESC:Events for Bethesda
REFRESH-INTERVAL;VALUE=DURATION:PT1H
X-Robots-Tag:noindex
X-PUBLISHED-TTL:PT1H
BEGIN:VTIMEZONE
TZID:UTC
BEGIN:STANDARD
TZOFFSETFROM:+0000
TZOFFSETTO:+0000
TZNAME:UTC
DTSTART:20240101T000000
END:STANDARD
END:VTIMEZONE
BEGIN:VEVENT
DTSTART;TZID=UTC:20250216T170000
DTEND;TZID=UTC:20250216T190000
DTSTAMP:20260423T093415
CREATED:20250206T191634Z
LAST-MODIFIED:20250211T164232Z
UID:6170-1739725200-1739732400@bethesdaky.com
SUMMARY:Bake Auction
DESCRIPTION:Bring your best baked goods! We will be having our annual Bake Auction in the Life Center! 5PM!
URL:https://bethesdaky.com/event/bake-auction/
LOCATION:Bethesda House of Mercy\, 2738 Ring Rd\, Elizabethtown\, KY\, 42701\, United States
END:VEVENT
END:VCALENDAR